BEGIN:VCALENDAR
VERSION:2.0
PRODID:-//Demopolis Public Library - ECPv6.15.20//NONSGML v1.0//EN
CALSCALE:GREGORIAN
METHOD:PUBLISH
X-ORIGINAL-URL:https://demopolislibrary.org
X-WR-CALDESC:Events for Demopolis Public Library
REFRESH-INTERVAL;VALUE=DURATION:PT1H
X-Robots-Tag:noindex
X-PUBLISHED-TTL:PT1H
BEGIN:VTIMEZONE
TZID:America/Chicago
BEGIN:DAYLIGHT
TZOFFSETFROM:-0600
TZOFFSETTO:-0500
TZNAME:CDT
DTSTART:20240310T080000
END:DAYLIGHT
BEGIN:STANDARD
TZOFFSETFROM:-0500
TZOFFSETTO:-0600
TZNAME:CST
DTSTART:20241103T070000
END:STANDARD
BEGIN:DAYLIGHT
TZOFFSETFROM:-0600
TZOFFSETTO:-0500
TZNAME:CDT
DTSTART:20250309T080000
END:DAYLIGHT
BEGIN:STANDARD
TZOFFSETFROM:-0500
TZOFFSETTO:-0600
TZNAME:CST
DTSTART:20251102T070000
END:STANDARD
BEGIN:DAYLIGHT
TZOFFSETFROM:-0600
TZOFFSETTO:-0500
TZNAME:CDT
DTSTART:20260308T080000
END:DAYLIGHT
BEGIN:STANDARD
TZOFFSETFROM:-0500
TZOFFSETTO:-0600
TZNAME:CST
DTSTART:20261101T070000
END:STANDARD
BEGIN:DAYLIGHT
TZOFFSETFROM:-0600
TZOFFSETTO:-0500
TZNAME:CDT
DTSTART:20270314T080000
END:DAYLIGHT
BEGIN:STANDARD
TZOFFSETFROM:-0500
TZOFFSETTO:-0600
TZNAME:CST
DTSTART:20271107T070000
END:STANDARD
END:VTIMEZONE
BEGIN:VEVENT
DTSTART;TZID=America/Chicago:20260226T171500
DTEND;TZID=America/Chicago:20260226T181500
DTSTAMP:20260424T082144
CREATED:20260204T160235Z
LAST-MODIFIED:20260204T160238Z
UID:19095-1772126100-1772129700@demopolislibrary.org
SUMMARY:After Hours Book Club
DESCRIPTION:The Echo of Old Books by Barbara Davis
URL:https://demopolislibrary.org/event/after-hours-book-club-3/
LOCATION:Meeting Room 1st Floor
END:VEVENT
BEGIN:VEVENT
DTSTART;TZID=America/Chicago:20260225T100000
DTEND;TZID=America/Chicago:20260225T110000
DTSTAMP:20260424T082144
CREATED:20260222T140000Z
LAST-MODIFIED:20260204T161325Z
UID:19102-1772013600-1772017200@demopolislibrary.org
SUMMARY:Story Time
DESCRIPTION:
URL:https://demopolislibrary.org/event/story-time-6/
LOCATION:Children’s Floor
END:VEVENT
BEGIN:VEVENT
DTSTART;TZID=America/Chicago:20260219T140000
DTEND;TZID=America/Chicago:20260219T160000
DTSTAMP:20260424T082144
CREATED:20260204T153950Z
LAST-MODIFIED:20260204T154330Z
UID:19087-1771509600-1771516800@demopolislibrary.org
SUMMARY:Bingo for Adults
DESCRIPTION:
URL:https://demopolislibrary.org/event/bingo/
LOCATION:Meeting Room 1st Floor
END:VEVENT
BEGIN:VEVENT
DTSTART;TZID=America/Chicago:20260218T100000
DTEND;TZID=America/Chicago:20260218T110000
DTSTAMP:20260424T082144
CREATED:20260215T140000Z
LAST-MODIFIED:20260204T161236Z
UID:19100-1771408800-1771412400@demopolislibrary.org
SUMMARY:Story Time
DESCRIPTION:
URL:https://demopolislibrary.org/event/story-time-5/
LOCATION:Children’s Floor
END:VEVENT
BEGIN:VEVENT
DTSTART;TZID=America/Chicago:20260211T100000
DTEND;TZID=America/Chicago:20260211T110000
DTSTAMP:20260424T082144
CREATED:20260208T140000Z
LAST-MODIFIED:20260204T161131Z
UID:19098-1770804000-1770807600@demopolislibrary.org
SUMMARY:Story Time
DESCRIPTION:
URL:https://demopolislibrary.org/event/story-time-4/
LOCATION:Children’s Floor
END:VEVENT
BEGIN:VEVENT
DTSTART;TZID=America/Chicago:20260204T100000
DTEND;TZID=America/Chicago:20260204T110000
DTSTAMP:20260424T082144
CREATED:20260204T153843Z
LAST-MODIFIED:20260204T154828Z
UID:19085-1770199200-1770202800@demopolislibrary.org
SUMMARY:Story Time
DESCRIPTION:
URL:https://demopolislibrary.org/event/story-time-3/
LOCATION:Children’s Floor
END:VEVENT
BEGIN:VEVENT
DTSTART;TZID=America/Chicago:20260119T090000
DTEND;TZID=America/Chicago:20260119T170000
DTSTAMP:20260424T082144
CREATED:20251211T180659Z
LAST-MODIFIED:20251211T180702Z
UID:19081-1768813200-1768842000@demopolislibrary.org
SUMMARY:Library Closed - Martin Luther King Day
DESCRIPTION:Library will reopen on January 20th at 9:00 A.M.
URL:https://demopolislibrary.org/event/library-closed-martin-luther-king-day/
END:VEVENT
BEGIN:VEVENT
DTSTART;TZID=America/Chicago:20260115T171500
DTEND;TZID=America/Chicago:20260115T181500
DTSTAMP:20260424T082144
CREATED:20251209T144557Z
LAST-MODIFIED:20251209T144827Z
UID:19064-1768497300-1768500900@demopolislibrary.org
SUMMARY:After Hours Book Club
DESCRIPTION:The Maid by Nita Prose
URL:https://demopolislibrary.org/event/after-hours-book-club-4/
LOCATION:Meeting Room 1st Floor
END:VEVENT
BEGIN:VEVENT
DTSTART;TZID=America/Chicago:20260101T090000
DTEND;TZID=America/Chicago:20260101T170000
DTSTAMP:20260424T082144
CREATED:20251211T175432Z
LAST-MODIFIED:20251211T175434Z
UID:19079-1767258000-1767286800@demopolislibrary.org
SUMMARY:Holiday Hours - Library Closed
DESCRIPTION:Library will reopen on January 2nd at 9:00 A.M.
URL:https://demopolislibrary.org/event/holiday-hours-library-closed-2/
END:VEVENT
BEGIN:VEVENT
DTSTART;TZID=America/Chicago:20251224T120000
DTEND;TZID=America/Chicago:20251226T170000
DTSTAMP:20260424T082144
CREATED:20251211T175324Z
LAST-MODIFIED:20251211T175327Z
UID:19077-1766577600-1766768400@demopolislibrary.org
SUMMARY:Holiday Hours - Library Closed
DESCRIPTION:Library will reopen on December 29th at 9:00 A.M.
URL:https://demopolislibrary.org/event/holiday-hours-library-closed/
END:VEVENT
BEGIN:VEVENT
DTSTART;TZID=America/Chicago:20251204T170000
DTEND;TZID=America/Chicago:20251204T183000
DTSTAMP:20260424T082144
CREATED:20250909T145739Z
LAST-MODIFIED:20250909T145743Z
UID:18977-1764867600-1764873000@demopolislibrary.org
SUMMARY:Pictures with Santa
DESCRIPTION:
URL:https://demopolislibrary.org/event/pictures-with-santa/
END:VEVENT
BEGIN:VEVENT
DTSTART;TZID=America/Chicago:20251106T150000
DTEND;TZID=America/Chicago:20251106T190000
DTSTAMP:20260424T082144
CREATED:20250909T145544Z
LAST-MODIFIED:20250909T145546Z
UID:18975-1762441200-1762455600@demopolislibrary.org
SUMMARY:DPL - Holiday Open House
DESCRIPTION:
URL:https://demopolislibrary.org/event/dpl-holiday-open-house/
END:VEVENT
BEGIN:VEVENT
DTSTART;TZID=America/Chicago:20251030T160000
DTEND;TZID=America/Chicago:20251030T170000
DTSTAMP:20260424T082144
CREATED:20250909T145147Z
LAST-MODIFIED:20250909T145152Z
UID:18973-1761840000-1761843600@demopolislibrary.org
SUMMARY:Monster March
DESCRIPTION:
URL:https://demopolislibrary.org/event/monster-march/
END:VEVENT
BEGIN:VEVENT
DTSTART;TZID=America/Chicago:20251023T140000
DTEND;TZID=America/Chicago:20251023T150000
DTSTAMP:20260424T082144
CREATED:20250924T151457Z
LAST-MODIFIED:20250924T151459Z
UID:19038-1761228000-1761231600@demopolislibrary.org
SUMMARY:Bingo for Adults
DESCRIPTION:
URL:https://demopolislibrary.org/event/bingo-for-adults-2/
LOCATION:Meeting Room 1st Floor
END:VEVENT
BEGIN:VEVENT
DTSTART;TZID=America/Chicago:20250918T140000
DTEND;TZID=America/Chicago:20250918T150000
DTSTAMP:20260424T082144
CREATED:20250603T013309Z
LAST-MODIFIED:20250909T144638Z
UID:18832-1758204000-1758207600@demopolislibrary.org
SUMMARY:Bingo for Adults
DESCRIPTION:
URL:https://demopolislibrary.org/event/bingo-for-adults/
LOCATION:Meeting Room 1st Floor
END:VEVENT
BEGIN:VEVENT
DTSTART;TZID=America/Chicago:20250917T100000
DTEND;TZID=America/Chicago:20250917T110000
DTSTAMP:20260424T082144
CREATED:20250909T144914Z
LAST-MODIFIED:20250909T144917Z
UID:18971-1758103200-1758106800@demopolislibrary.org
SUMMARY:Story Time
DESCRIPTION:
URL:https://demopolislibrary.org/event/story-time-2/
END:VEVENT
BEGIN:VEVENT
DTSTART;TZID=America/Chicago:20250910T100000
DTEND;TZID=America/Chicago:20250910T110000
DTSTAMP:20260424T082144
CREATED:20250806T145942Z
LAST-MODIFIED:20250909T144232Z
UID:18942-1757498400-1757502000@demopolislibrary.org
SUMMARY:Story Time
DESCRIPTION:
URL:https://demopolislibrary.org/event/story-time/
LOCATION:Children’s Floor
END:VEVENT
BEGIN:VEVENT
DTSTART;TZID=America/Chicago:20250901T080000
DTEND;TZID=America/Chicago:20250901T170000
DTSTAMP:20260424T082144
CREATED:20250806T150056Z
LAST-MODIFIED:20250806T150058Z
UID:18946-1756713600-1756746000@demopolislibrary.org
SUMMARY:Labor Day - Library Closed
DESCRIPTION:
URL:https://demopolislibrary.org/event/labor-day-library-closed/
END:VEVENT
BEGIN:VEVENT
DTSTART;TZID=America/Chicago:20250821T140000
DTEND;TZID=America/Chicago:20250821T150000
DTSTAMP:20260424T082144
CREATED:20250806T145405Z
LAST-MODIFIED:20250806T145407Z
UID:18937-1755784800-1755788400@demopolislibrary.org
SUMMARY:Adult Bingo
DESCRIPTION:
URL:https://demopolislibrary.org/event/adult-bingo/
LOCATION:Meeting Room 1st Floor
END:VEVENT
BEGIN:VEVENT
DTSTART;TZID=America/Chicago:20250724T171500
DTEND;TZID=America/Chicago:20250724T181500
DTSTAMP:20260424T082144
CREATED:20250709T151425Z
LAST-MODIFIED:20250709T151727Z
UID:18927-1753377300-1753380900@demopolislibrary.org
SUMMARY:After Hours Book Club
DESCRIPTION:The Things We Leave Unfinished\, Rebecca Yarros
URL:https://demopolislibrary.org/event/after-hours-book-club-2/
LOCATION:Meeting Room 1st Floor
END:VEVENT
BEGIN:VEVENT
DTSTART;TZID=America/Chicago:20250724T140000
DTEND;TZID=America/Chicago:20250724T150000
DTSTAMP:20260424T082144
CREATED:20250709T151300Z
LAST-MODIFIED:20250709T151302Z
UID:18925-1753365600-1753369200@demopolislibrary.org
SUMMARY:Animal Show
DESCRIPTION:
URL:https://demopolislibrary.org/event/animal-show/
LOCATION:Childrens Area
END:VEVENT
BEGIN:VEVENT
DTSTART;TZID=America/Chicago:20250722T140000
DTEND;TZID=America/Chicago:20250722T150000
DTSTAMP:20260424T082144
CREATED:20250709T151202Z
LAST-MODIFIED:20250709T151203Z
UID:18923-1753192800-1753196400@demopolislibrary.org
SUMMARY:Art & Craft Bonanza
DESCRIPTION:
URL:https://demopolislibrary.org/event/art-craft-bonanza/
LOCATION:Childrens Area
END:VEVENT
BEGIN:VEVENT
DTSTART;TZID=America/Chicago:20250717T140000
DTEND;TZID=America/Chicago:20250717T150000
DTSTAMP:20260424T082144
CREATED:20250709T144653Z
LAST-MODIFIED:20250709T144654Z
UID:18919-1752760800-1752764400@demopolislibrary.org
SUMMARY:Tray Painting
DESCRIPTION:
URL:https://demopolislibrary.org/event/tray-painting/
LOCATION:Childrens Area
END:VEVENT
BEGIN:VEVENT
DTSTART;TZID=America/Chicago:20250716T140000
DTEND;TZID=America/Chicago:20250716T150000
DTSTAMP:20260424T082144
CREATED:20250603T013219Z
LAST-MODIFIED:20250603T013219Z
UID:18830-1752674400-1752678000@demopolislibrary.org
SUMMARY:Diamond Canvas Art
DESCRIPTION:
URL:https://demopolislibrary.org/event/diamond-canvas-art/
LOCATION:Meeting Room 1st Floor
END:VEVENT
BEGIN:VEVENT
DTSTART;TZID=America/Chicago:20250715T140000
DTEND;TZID=America/Chicago:20250715T150000
DTSTAMP:20260424T082144
CREATED:20250709T142247Z
LAST-MODIFIED:20250709T144343Z
UID:18894-1752588000-1752591600@demopolislibrary.org
SUMMARY:Mr. Larry's Magic Show
DESCRIPTION:
URL:https://demopolislibrary.org/event/mr-larrys-magic-show/
LOCATION:Childrens Area
END:VEVENT
BEGIN:VEVENT
DTSTART;TZID=America/Chicago:20250710T140000
DTEND;TZID=America/Chicago:20250710T150000
DTSTAMP:20260424T082144
CREATED:20250709T135104Z
LAST-MODIFIED:20250709T144309Z
UID:18890-1752156000-1752159600@demopolislibrary.org
SUMMARY:Art with Sierra
DESCRIPTION:
URL:https://demopolislibrary.org/event/art-with-sierra/
LOCATION:Childrens Area
CATEGORIES:Children / Teens
END:VEVENT
BEGIN:VEVENT
DTSTART;TZID=America/Chicago:20250709T140000
DTEND;TZID=America/Chicago:20250709T150000
DTSTAMP:20260424T082144
CREATED:20250603T013135Z
LAST-MODIFIED:20250709T152244Z
UID:18826-1752069600-1752073200@demopolislibrary.org
SUMMARY:Learn to play the djembe
DESCRIPTION:
URL:https://demopolislibrary.org/event/learn-to-play-the-djembe/
LOCATION:Children’s Area
CATEGORIES:Children / Teens
END:VEVENT
BEGIN:VEVENT
DTSTART;TZID=America/Chicago:20250623T170000
DTEND;TZID=America/Chicago:20250623T180000
DTSTAMP:20260424T082144
CREATED:20250603T013050Z
LAST-MODIFIED:20250603T013050Z
UID:18822-1750698000-1750701600@demopolislibrary.org
SUMMARY:Library Board Meeting
DESCRIPTION:
URL:https://demopolislibrary.org/event/library-board-meeting/
LOCATION:Library Conference Room
END:VEVENT
BEGIN:VEVENT
DTSTART;TZID=America/Chicago:20250619T170000
DTEND;TZID=America/Chicago:20250619T170000
DTSTAMP:20260424T082144
CREATED:20250603T012959Z
LAST-MODIFIED:20250603T013000Z
UID:18820-1750352400-1750352400@demopolislibrary.org
SUMMARY:After Hours Book Club
DESCRIPTION:
URL:https://demopolislibrary.org/event/after-hours-book-club/
LOCATION:Meeting Room 1st Floor
END:VEVENT
BEGIN:VEVENT
DTSTART;TZID=America/Chicago:20250618T140000
DTEND;TZID=America/Chicago:20250618T150000
DTSTAMP:20260424T082144
CREATED:20250603T012845Z
LAST-MODIFIED:20250603T012846Z
UID:18818-1750255200-1750258800@demopolislibrary.org
SUMMARY:Diamond Art Bookmarks
DESCRIPTION:
URL:https://demopolislibrary.org/event/diamond-art-bookmarks/
LOCATION:Meeting Room 1st Floor
END:VEVENT
END:VCALENDAR